BEGIN:VCALENDAR
VERSION:2.0
PRODID:-//pretix//pretix.eu//
BEGIN:VTIMEZONE
TZID:Europe/Dublin
BEGIN:STANDARD
DTSTART:20000326T030000
RRULE:FREQ=YEARLY;BYDAY=-1SU;BYMONTH=3
TZNAME:IST
TZOFFSETFROM:+0000
TZOFFSETTO:+0100
END:STANDARD
BEGIN:DAYLIGHT
DTSTART:20001029T020000
RRULE:FREQ=YEARLY;BYDAY=-1SU;BYMONTH=10
TZNAME:GMT
TZOFFSETFROM:+0100
TZOFFSETTO:+0000
END:DAYLIGHT
END:VTIMEZONE
BEGIN:VEVENT
UID:pretix-nhsrcommunity-coffee-and-code-4284404@events.nhsrcommunity.com
DTSTART;TZID=Europe/Dublin:20250319T140000
DTEND;TZID=Europe/Dublin:20250319T150000
DESCRIPTION:Tickets: https://events.nhsrcommunity.com/coffee-and-code/42844
 04/\nOrganizer: NHS-R Community (part of NHS Midlands and Lancashire)
DTSTAMP:20260419T195739Z
LOCATION:London
SUMMARY:Coffee and Coding
END:VEVENT
END:VCALENDAR
